BEGIN:VCALENDAR
VERSION:2.0
PRODID:-//Monat - ECPv6.8.3//NONSGML v1.0//EN
CALSCALE:GREGORIAN
METHOD:PUBLISH
X-ORIGINAL-URL:https://monatng.com
X-WR-CALDESC:Events for Monat
REFRESH-INTERVAL;VALUE=DURATION:PT1H
X-Robots-Tag:noindex
X-PUBLISHED-TTL:PT1H
BEGIN:VTIMEZONE
TZID:UTC
BEGIN:STANDARD
TZOFFSETFROM:+0000
TZOFFSETTO:+0000
TZNAME:UTC
DTSTART:20240101T000000
END:STANDARD
END:VTIMEZONE
BEGIN:VEVENT
DTSTART;VALUE=DATE:20241214
DTEND;VALUE=DATE:20241215
DTSTAMP:20260424T025614
CREATED:20180809T091837Z
LAST-MODIFIED:20241214T092832Z
UID:215-1734134400-1734220799@monatng.com
SUMMARY:Monat Launch
DESCRIPTION:Join Us for the Grand Launch of Monat!\nThe wait is over—Monat is opening its doors\, and we can’t wait to celebrate with you! Bring your family and friends to experience the magic of our play spaces\, enjoy special activities\, and be part of this exciting milestone. \nWhat to Expect:\n\nExclusive sneak peeks of our play zones and café\nFun activities for kids of all ages\nLight refreshments and a warm\, welcoming community\nSpecial discounts on memberships and party bookings\n\nLet’s kick things off in style and make unforgettable memories together! Mark your calendar and be part of Monat’s journey from day one. We can’t wait to see you there!
URL:https://monatng.com/event/monat-launch/
LOCATION:Monat Center\, 1 Oluwakayode Jacobs Cresent\, Lekki\, Lagos\, 101233\, Nigeria
ATTACH;FMTTYPE=image/jpeg:https://monatng.com/wp-content/uploads/2024/12/IMG_640-1.jpeg
ORGANIZER;CN="Monat":MAILTO:info@monatng.com
END:VEVENT
BEGIN:VEVENT
DTSTART;TZID=UTC:20250407T090000
DTEND;TZID=UTC:20250509T130000
DTSTAMP:20260424T025614
CREATED:20250324T150457Z
LAST-MODIFIED:20250324T150545Z
UID:2409-1744016400-1746795600@monatng.com
SUMMARY:🐣 Easter Camp: Adventure\, Creativity & Learning! 🎉
DESCRIPTION:Get ready for an unforgettable Easter experience filled with adventure\, creativity\, and hands-on learning! Our Easter camp is designed for young explorers to engage in exciting activities while developing essential skills. \n🗓 Camp Dates & Weekly Sessions: \n\n📅 Week 1: 7th – 11th April\n📅 Week 2: 14th – 18th April\n📅 Week 3: 21st – 25th April\n📅 Week 4: 28th April – 2nd May\n📅 Week 5: 5th – 9th May\n\n🕘 Time: 9 AM – 1 PM👧🏽👦🏽 Ages: 2 – 4 years | 5 – 8 years💰 Fee: ₦70\,000/week (Non-refundable\, No cancellations) \n🎯 Exciting Activities Include:🐰 Egg Hunts🎭 Sensory & Motor Play🎶 Movement & Music👩‍🍳 Culinary Exploration🔬 STEM Activities🎨 Arts & Crafts💦 Water Play & More! \n📢 Spots are limited! Book now to avoid missing out! \n\n📞 Contact us at +234 807 068 0090 or email info@monatng.com to register.
URL:https://monatng.com/event/%f0%9f%90%a3-easter-camp-adventure-creativity-learning-%f0%9f%8e%89/
LOCATION:Monat Center\, 1 Oluwakayode Jacobs Cresent\, Lekki\, Lagos\, 101233\, Nigeria
ATTACH;FMTTYPE=image/png:https://monatng.com/wp-content/uploads/2025/03/Easter-camp-1b_2-.png
ORGANIZER;CN="Monat":MAILTO:info@monatng.com
END:VEVENT
END:VCALENDAR